BEGIN:VCALENDAR
VERSION:2.0
PRODID:-//Fanfareorkest Psalm150 - ECPv6.15.17//NONSGML v1.0//EN
CALSCALE:GREGORIAN
METHOD:PUBLISH
X-ORIGINAL-URL:https://www.psalm150.nl
X-WR-CALDESC:Evenementen voor Fanfareorkest Psalm150
REFRESH-INTERVAL;VALUE=DURATION:PT1H
X-Robots-Tag:noindex
X-PUBLISHED-TTL:PT1H
BEGIN:VTIMEZONE
TZID:Europe/Helsinki
BEGIN:DAYLIGHT
TZOFFSETFROM:+0200
TZOFFSETTO:+0300
TZNAME:EEST
DTSTART:20250330T010000
END:DAYLIGHT
BEGIN:STANDARD
TZOFFSETFROM:+0300
TZOFFSETTO:+0200
TZNAME:EET
DTSTART:20251026T010000
END:STANDARD
BEGIN:DAYLIGHT
TZOFFSETFROM:+0200
TZOFFSETTO:+0300
TZNAME:EEST
DTSTART:20260329T010000
END:DAYLIGHT
BEGIN:STANDARD
TZOFFSETFROM:+0300
TZOFFSETTO:+0200
TZNAME:EET
DTSTART:20261025T010000
END:STANDARD
BEGIN:DAYLIGHT
TZOFFSETFROM:+0200
TZOFFSETTO:+0300
TZNAME:EEST
DTSTART:20270328T010000
END:DAYLIGHT
BEGIN:STANDARD
TZOFFSETFROM:+0300
TZOFFSETTO:+0200
TZNAME:EET
DTSTART:20271031T010000
END:STANDARD
END:VTIMEZONE
BEGIN:VEVENT
DTSTART;TZID=Europe/Helsinki:20260405T100000
DTEND;TZID=Europe/Helsinki:20260405T110000
DTSTAMP:20260423T190721
CREATED:20251020T091136Z
LAST-MODIFIED:20260129T155015Z
UID:554-1775383200-1775386800@www.psalm150.nl
SUMMARY:A-orkest - medewerking Paasdienst
DESCRIPTION:5 april 2026 10:00 – A-orkest – medewerking Paasdienst – Dorpskerk\, Dinxperlo
URL:https://www.psalm150.nl/event/paasdienst/
LOCATION:Dorpskerk\, Dinxperlo
END:VEVENT
END:VCALENDAR